BEGIN:VCALENDAR
VERSION:2.0
PRODID:-//Seven Mountains Wine Cellars - ECPv6.15.20//NONSGML v1.0//EN
CALSCALE:GREGORIAN
METHOD:PUBLISH
X-WR-CALNAME:Seven Mountains Wine Cellars
X-ORIGINAL-URL:https://sevenmountainswinecellars.com
X-WR-CALDESC:Events for Seven Mountains Wine Cellars
REFRESH-INTERVAL;VALUE=DURATION:PT1H
X-Robots-Tag:noindex
X-PUBLISHED-TTL:PT1H
BEGIN:VTIMEZONE
TZID:America/New_York
BEGIN:DAYLIGHT
TZOFFSETFROM:-0500
TZOFFSETTO:-0400
TZNAME:EDT
DTSTART:20250309T070000
END:DAYLIGHT
BEGIN:STANDARD
TZOFFSETFROM:-0400
TZOFFSETTO:-0500
TZNAME:EST
DTSTART:20251102T060000
END:STANDARD
BEGIN:DAYLIGHT
TZOFFSETFROM:-0500
TZOFFSETTO:-0400
TZNAME:EDT
DTSTART:20260308T070000
END:DAYLIGHT
BEGIN:STANDARD
TZOFFSETFROM:-0400
TZOFFSETTO:-0500
TZNAME:EST
DTSTART:20261101T060000
END:STANDARD
BEGIN:DAYLIGHT
TZOFFSETFROM:-0500
TZOFFSETTO:-0400
TZNAME:EDT
DTSTART:20270314T070000
END:DAYLIGHT
BEGIN:STANDARD
TZOFFSETFROM:-0400
TZOFFSETTO:-0500
TZNAME:EST
DTSTART:20271107T060000
END:STANDARD
END:VTIMEZONE
BEGIN:VEVENT
DTSTART;TZID=America/New_York:20260502T130000
DTEND;TZID=America/New_York:20260502T160000
DTSTAMP:20260423T052846
CREATED:20260225T173025Z
LAST-MODIFIED:20260225T173025Z
UID:3960-1777726800-1777737600@sevenmountainswinecellars.com
SUMMARY:Live Music by Ben on Acoustic
DESCRIPTION:
URL:https://sevenmountainswinecellars.com/event/live-music-by-ben-on-acoustic-4/
CATEGORIES:Music
ATTACH;FMTTYPE=image/jpeg:https://sevenmountainswinecellars.com/wp-content/uploads/ben-leskovansky-1.jpg
END:VEVENT
BEGIN:VEVENT
DTSTART;TZID=America/New_York:20260509T130000
DTEND;TZID=America/New_York:20260509T160000
DTSTAMP:20260423T052846
CREATED:20260302T173051Z
LAST-MODIFIED:20260302T173051Z
UID:3977-1778331600-1778342400@sevenmountainswinecellars.com
SUMMARY:Live Music by Ryan Russler
DESCRIPTION:Music possibly outside\, weather permitting.
URL:https://sevenmountainswinecellars.com/event/live-music-by-ryan-russler-2/
CATEGORIES:Music
ATTACH;FMTTYPE=image/jpeg:https://sevenmountainswinecellars.com/wp-content/uploads/ryan-russler-1.jpg
END:VEVENT
BEGIN:VEVENT
DTSTART;TZID=America/New_York:20260510T110000
DTEND;TZID=America/New_York:20260510T170000
DTSTAMP:20260423T052846
CREATED:20260419T190212Z
LAST-MODIFIED:20260419T190212Z
UID:4067-1778410800-1778432400@sevenmountainswinecellars.com
SUMMARY:Mother's Day with music by John White and Rebelz Food Truck
DESCRIPTION:Come enjoy a relaxing day with us and some great specials for Mother’s Day.  Enjoy live music and let Rebelz make lunch for you.  Food truck 11-5 and music 1-4.  See you then
URL:https://sevenmountainswinecellars.com/event/mothers-day-with-music-by-john-white-and-rebelz-food-truck/
CATEGORIES:Music
ATTACH;FMTTYPE=image/webp:https://sevenmountainswinecellars.com/wp-content/uploads/32233444-happy-mothers-day.webp
END:VEVENT
BEGIN:VEVENT
DTSTART;TZID=America/New_York:20260516T130000
DTEND;TZID=America/New_York:20260516T160000
DTSTAMP:20260423T052846
CREATED:20260303T183536Z
LAST-MODIFIED:20260419T185719Z
UID:3985-1778936400-1778947200@sevenmountainswinecellars.com
SUMMARY:Live Music by Bernie Rich and Kish Valley Canteen Food Truck
DESCRIPTION:possibly outside\, weather permitting \nFood Truck = Kish Valley Canteen
URL:https://sevenmountainswinecellars.com/event/live-music-by-bernie-rich/
CATEGORIES:Music
ATTACH;FMTTYPE=image/jpeg:https://sevenmountainswinecellars.com/wp-content/uploads/music.jpg
END:VEVENT
BEGIN:VEVENT
DTSTART;TZID=America/New_York:20260517T130000
DTEND;TZID=America/New_York:20260517T160000
DTSTAMP:20260423T052846
CREATED:20260225T173246Z
LAST-MODIFIED:20260225T173246Z
UID:3963-1779022800-1779033600@sevenmountainswinecellars.com
SUMMARY:Live Music by Jeff Gibble & Zeb Cruz
DESCRIPTION:
URL:https://sevenmountainswinecellars.com/event/live-music-by-jeff-gibble-zeb-cruz-2/
CATEGORIES:Music
ATTACH;FMTTYPE=image/jpeg:https://sevenmountainswinecellars.com/wp-content/uploads/Jeff-Gibble-Zeb-Crews-2205-01-002.jpeg
END:VEVENT
BEGIN:VEVENT
DTSTART;TZID=America/New_York:20260523T130000
DTEND;TZID=America/New_York:20260523T160000
DTSTAMP:20260423T052846
CREATED:20260225T173444Z
LAST-MODIFIED:20260225T173444Z
UID:3966-1779541200-1779552000@sevenmountainswinecellars.com
SUMMARY:Live Music by Circle Squared
DESCRIPTION:
URL:https://sevenmountainswinecellars.com/event/live-music-by-circle-squared/
CATEGORIES:Music
ATTACH;FMTTYPE=image/jpeg:https://sevenmountainswinecellars.com/wp-content/uploads/Jeff-Unplugged.jpeg
END:VEVENT
BEGIN:VEVENT
DTSTART;TZID=America/New_York:20260530T130000
DTEND;TZID=America/New_York:20260530T160000
DTSTAMP:20260423T052846
CREATED:20260225T174004Z
LAST-MODIFIED:20260225T174004Z
UID:3969-1780146000-1780156800@sevenmountainswinecellars.com
SUMMARY:Live Music by Remember When
DESCRIPTION:
URL:https://sevenmountainswinecellars.com/event/live-music-by-remember-when-2/
CATEGORIES:Music
ATTACH;FMTTYPE=image/jpeg:https://sevenmountainswinecellars.com/wp-content/uploads/rememberwhen-1.jpg
END:VEVENT
END:VCALENDAR