BEGIN:VCALENDAR
VERSION:2.0
PRODID:-//Seven Mountains Wine Cellars - ECPv6.15.20//NONSGML v1.0//EN
CALSCALE:GREGORIAN
METHOD:PUBLISH
X-WR-CALNAME:Seven Mountains Wine Cellars
X-ORIGINAL-URL:https://sevenmountainswinecellars.com
X-WR-CALDESC:Events for Seven Mountains Wine Cellars
REFRESH-INTERVAL;VALUE=DURATION:PT1H
X-Robots-Tag:noindex
X-PUBLISHED-TTL:PT1H
BEGIN:VTIMEZONE
TZID:America/New_York
BEGIN:DAYLIGHT
TZOFFSETFROM:-0500
TZOFFSETTO:-0400
TZNAME:EDT
DTSTART:20210314T070000
END:DAYLIGHT
BEGIN:STANDARD
TZOFFSETFROM:-0400
TZOFFSETTO:-0500
TZNAME:EST
DTSTART:20211107T060000
END:STANDARD
BEGIN:DAYLIGHT
TZOFFSETFROM:-0500
TZOFFSETTO:-0400
TZNAME:EDT
DTSTART:20220313T070000
END:DAYLIGHT
BEGIN:STANDARD
TZOFFSETFROM:-0400
TZOFFSETTO:-0500
TZNAME:EST
DTSTART:20221106T060000
END:STANDARD
BEGIN:DAYLIGHT
TZOFFSETFROM:-0500
TZOFFSETTO:-0400
TZNAME:EDT
DTSTART:20230312T070000
END:DAYLIGHT
BEGIN:STANDARD
TZOFFSETFROM:-0400
TZOFFSETTO:-0500
TZNAME:EST
DTSTART:20231105T060000
END:STANDARD
BEGIN:DAYLIGHT
TZOFFSETFROM:-0500
TZOFFSETTO:-0400
TZNAME:EDT
DTSTART:20240310T070000
END:DAYLIGHT
BEGIN:STANDARD
TZOFFSETFROM:-0400
TZOFFSETTO:-0500
TZNAME:EST
DTSTART:20241103T060000
END:STANDARD
BEGIN:DAYLIGHT
TZOFFSETFROM:-0500
TZOFFSETTO:-0400
TZNAME:EDT
DTSTART:20250309T070000
END:DAYLIGHT
BEGIN:STANDARD
TZOFFSETFROM:-0400
TZOFFSETTO:-0500
TZNAME:EST
DTSTART:20251102T060000
END:STANDARD
END:VTIMEZONE
BEGIN:VEVENT
DTSTART;TZID=America/New_York:20241018T180000
DTEND;TZID=America/New_York:20241018T210000
DTSTAMP:20260424T045347
CREATED:20240807T172624Z
LAST-MODIFIED:20240807T173041Z
UID:3374-1729274400-1729285200@sevenmountainswinecellars.com
SUMMARY:Campfire with music by Rhyne & Tabyn McCormick
DESCRIPTION:This event is the rescheduled date from August 9th \nCome enjoy outdoor music\, campfires and BBQ. \n$5 per person gets you into the campfire and a souvenir glass \nBring your own lawn chairs or blankets \nPLEASE DO NOT bring any type of alcohol onto our property.   This is a liquor law violation and we do have plenty of options for you to purchase.  We apprecaite your cooperation!  Outside alcohol will be confiscated. \n 
URL:https://sevenmountainswinecellars.com/event/campfire-with-music-by-rhyne-tabyn-mccormick/
CATEGORIES:Campfires,Music
ATTACH;FMTTYPE=image/webp:https://sevenmountainswinecellars.com/wp-content/uploads/fire.webp
END:VEVENT
BEGIN:VEVENT
DTSTART;TZID=America/New_York:20240927T180000
DTEND;TZID=America/New_York:20240927T210000
DTSTAMP:20260424T045347
CREATED:20240325T160958Z
LAST-MODIFIED:20240325T160958Z
UID:3288-1727460000-1727470800@sevenmountainswinecellars.com
SUMMARY:Campfire Friday Night with Music by Ryan Russler
DESCRIPTION:Come enjoy outdoor music\, campfires and BBQ. \n$5 per person gets you into the campfire and a souvenir glass \nBring your own lawn chairs or blankets \nPLEASE DO NOT bring any type of alcohol onto our property.   This is a liquor law violation and we do have plenty of options for you to purchase.  We apprecaite your cooperation!  Outside alcohol will be confiscated. \n 
URL:https://sevenmountainswinecellars.com/event/campfire-friday-night-with-music-by-ryan-russler/
LOCATION:Seven Mountains Wine Cellars\, 324 Decker Valley Rd\, Spring Mills\, PA\, 16875\, United States
CATEGORIES:Campfires,Music
ATTACH;FMTTYPE=image/webp:https://sevenmountainswinecellars.com/wp-content/uploads/fire.webp
END:VEVENT
BEGIN:VEVENT
DTSTART;TZID=America/New_York:20240913T180000
DTEND;TZID=America/New_York:20240913T210000
DTSTAMP:20260424T045347
CREATED:20240325T160817Z
LAST-MODIFIED:20240325T160817Z
UID:3285-1726250400-1726261200@sevenmountainswinecellars.com
SUMMARY:Campfire Friday Night with Music by Hops & Vines
DESCRIPTION:Come enjoy outdoor music\, campfires and BBQ. \n$5 per person gets you into the campfire and a souvenir glass \nBring your own lawn chairs or blankets \nPLEASE DO NOT bring any type of alcohol onto our property.   This is a liquor law violation and we do have plenty of options for you to purchase.  We apprecaite your cooperation!  Outside alcohol will be confiscated. \n 
URL:https://sevenmountainswinecellars.com/event/campfire-friday-night-with-music-by-hops-vines-3/
LOCATION:Seven Mountains Wine Cellars\, 324 Decker Valley Rd\, Spring Mills\, PA\, 16875\, United States
CATEGORIES:Campfires,Music
ATTACH;FMTTYPE=image/webp:https://sevenmountainswinecellars.com/wp-content/uploads/fire.webp
END:VEVENT
BEGIN:VEVENT
DTSTART;TZID=America/New_York:20240818T130000
DTEND;TZID=America/New_York:20240818T160000
DTSTAMP:20260424T045347
CREATED:20240724T170019Z
LAST-MODIFIED:20240724T170019Z
UID:3359-1723986000-1723996800@sevenmountainswinecellars.com
SUMMARY:Live Music by Mike Yeaney
DESCRIPTION:Join us for live music from 1-4 by Mike Yeaney
URL:https://sevenmountainswinecellars.com/event/live-music-by-mike-yeaney/
CATEGORIES:Music
END:VEVENT
BEGIN:VEVENT
DTSTART;TZID=America/New_York:20240811T110000
DTEND;TZID=America/New_York:20240811T170000
DTSTAMP:20260424T045347
CREATED:20240724T165441Z
LAST-MODIFIED:20240724T165525Z
UID:3355-1723374000-1723395600@sevenmountainswinecellars.com
SUMMARY:Birthday Bash and Live Music by Remember When
DESCRIPTION:It’s hard to believe how far we’ve come since 2009! Come help us celebrate another year of great friends and great wine! We couldn’t do it without you and we are so grateful for all of you who have supported our business! There will be live music from 1-4 by Remeber When and all day long we’ll have give aways\, prizes\, wine specials. Winery and Patio Grille open 11-5 and music 1-4. Please join us!
URL:https://sevenmountainswinecellars.com/event/birthday-bash-and-live-music-by-remember-when/
CATEGORIES:Music,Special Events
ATTACH;FMTTYPE=image/jpeg:https://sevenmountainswinecellars.com/wp-content/uploads/birthday.jpg
END:VEVENT
BEGIN:VEVENT
DTSTART;TZID=America/New_York:20240809T180000
DTEND;TZID=America/New_York:20240809T210000
DTSTAMP:20260424T045347
CREATED:20240325T160459Z
LAST-MODIFIED:20240807T172302Z
UID:3279-1723226400-1723237200@sevenmountainswinecellars.com
SUMMARY:**POSTPONED DUE TO RAIN**Campfire Friday Night with Music by Rhyne & Tabyn McCormick
DESCRIPTION:This event has been postponed due to anticipated rainfall this week. \nThe rescheduled date is October 18th
URL:https://sevenmountainswinecellars.com/event/campfire-friday-night-with-music-by-rhyne-tabyn-mccormick/
LOCATION:Seven Mountains Wine Cellars\, 324 Decker Valley Rd\, Spring Mills\, PA\, 16875\, United States
CATEGORIES:Campfires,Music
ATTACH;FMTTYPE=image/webp:https://sevenmountainswinecellars.com/wp-content/uploads/fire.webp
END:VEVENT
BEGIN:VEVENT
DTSTART;TZID=America/New_York:20240726T180000
DTEND;TZID=America/New_York:20240726T210000
DTSTAMP:20260424T045347
CREATED:20240325T160319Z
LAST-MODIFIED:20240325T160319Z
UID:3276-1722016800-1722027600@sevenmountainswinecellars.com
SUMMARY:Campfire Friday Night with Music by Big Red
DESCRIPTION:Come enjoy outdoor music\, campfires and BBQ. \n$5 per person gets you into the campfire and a souvenir glass \nBring your own lawn chairs or blankets \nPLEASE DO NOT bring any type of alcohol onto our property.   This is a liquor law violation and we do have plenty of options for you to purchase.  We apprecaite your cooperation!  Outside alcohol will be confiscated. \n 
URL:https://sevenmountainswinecellars.com/event/campfire-friday-night-with-music-by-big-red/
LOCATION:Seven Mountains Wine Cellars\, 324 Decker Valley Rd\, Spring Mills\, PA\, 16875\, United States
CATEGORIES:Campfires,Music
ATTACH;FMTTYPE=image/webp:https://sevenmountainswinecellars.com/wp-content/uploads/fire.webp
END:VEVENT
BEGIN:VEVENT
DTSTART;TZID=America/New_York:20240705T180000
DTEND;TZID=America/New_York:20240705T210000
DTSTAMP:20260424T045347
CREATED:20240325T160140Z
LAST-MODIFIED:20240325T160140Z
UID:3273-1720202400-1720213200@sevenmountainswinecellars.com
SUMMARY:Campfire Friday Night with Music by Ben on Acoustic
DESCRIPTION:Come enjoy outdoor music\, campfires and BBQ. \n$5 per person gets you into the campfire and a souvenir glass \nBring your own lawn chairs or blankets \nPLEASE DO NOT bring any type of alcohol onto our property.   This is a liquor law violation and we do have plenty of options for you to purchase.  We apprecaite your cooperation!  Outside alcohol will be confiscated. \n 
URL:https://sevenmountainswinecellars.com/event/campfire-friday-night-with-music-by-ben-on-acoustic/
LOCATION:Seven Mountains Wine Cellars\, 324 Decker Valley Rd\, Spring Mills\, PA\, 16875\, United States
CATEGORIES:Campfires,Music
ATTACH;FMTTYPE=image/webp:https://sevenmountainswinecellars.com/wp-content/uploads/fire.webp
END:VEVENT
BEGIN:VEVENT
DTSTART;TZID=America/New_York:20240629T180000
DTEND;TZID=America/New_York:20240629T210000
DTSTAMP:20260424T045347
CREATED:20240325T155801Z
LAST-MODIFIED:20240325T155925Z
UID:3268-1719684000-1719694800@sevenmountainswinecellars.com
SUMMARY:Flying Ivories Dueling Pianos
DESCRIPTION:Come enjoy an evening of singing\, dancing and crazy antics with Flying Ivories.  Event will be outside under the tent.  Seating is first come\, first served and will open at 5pm.  Event is from 6-9.  The Patio Grille will be open all day from 11-9 so come out early and grab some dinner before the fun starts.  Tickets will be on sale on April 1st and are limited to 200 tickets.  Absolutely no additional tickets will be sold once we are sold out.  They’ve sold out quickly in past years so don’t wait too long.  You can stop into the main winery or Boalsburg to purchase or you can call the winery and pay by phone and pick up the  next time you’re here.  We do appreciate if everyone who purchases by phone can pick up before the day of the event when possible.  No returns or refunds.  Event is rain or shine.
URL:https://sevenmountainswinecellars.com/event/flying-ivories-dueling-pianos-3/
LOCATION:Seven Mountains Wine Cellars\, 324 Decker Valley Rd\, Spring Mills\, PA\, 16875\, United States
CATEGORIES:Music,Special Events
ATTACH;FMTTYPE=image/jpeg:https://sevenmountainswinecellars.com/wp-content/uploads/th-e1556653849836.jpg
END:VEVENT
BEGIN:VEVENT
DTSTART;TZID=America/New_York:20240616T130000
DTEND;TZID=America/New_York:20240616T160000
DTSTAMP:20260424T045347
CREATED:20240325T152851Z
LAST-MODIFIED:20240325T152957Z
UID:3260-1718542800-1718553600@sevenmountainswinecellars.com
SUMMARY:Father's Day Music by Chris Lee
DESCRIPTION:Come enjoy some music and BBQ on the patio!  Music from 1-4 by Chris Lee will be outside (weather permitting) and the Patio Grille will be open!  There will be drink specials for Dads too!
URL:https://sevenmountainswinecellars.com/event/fathers-day-music-by-chris-lee-2/
LOCATION:Seven Mountains Wine Cellars\, 324 Decker Valley Rd\, Spring Mills\, PA\, 16875\, United States
CATEGORIES:Music,Special Events
ATTACH;FMTTYPE=image/png:https://sevenmountainswinecellars.com/wp-content/uploads/fathers-day-art.png
END:VEVENT
BEGIN:VEVENT
DTSTART;TZID=America/New_York:20240607T180000
DTEND;TZID=America/New_York:20240607T210000
DTSTAMP:20260424T045347
CREATED:20240325T154233Z
LAST-MODIFIED:20240325T154233Z
UID:3264-1717783200-1717794000@sevenmountainswinecellars.com
SUMMARY:Campfire Friday Night with Music by Chris Schenk & Delilah
DESCRIPTION:Come enjoy outdoor music\, campfires and BBQ. \n$5 per person gets you into the campfire and a souvenir glass \nBring your own lawn chairs or blankets \nPLEASE DO NOT bring any type of alcohol onto our property.   This is a liquor law violation and we do have plenty of options for you to purchase.  We apprecaite your cooperation!  Outside alcohol will be confiscated. \n 
URL:https://sevenmountainswinecellars.com/event/campfire-friday-night-with-music-by-chris-schenk-delilah-2/
LOCATION:Seven Mountains Wine Cellars\, 324 Decker Valley Rd\, Spring Mills\, PA\, 16875\, United States
CATEGORIES:Campfires,Music
ATTACH;FMTTYPE=image/webp:https://sevenmountainswinecellars.com/wp-content/uploads/fire.webp
END:VEVENT
BEGIN:VEVENT
DTSTART;TZID=America/New_York:20240519T130000
DTEND;TZID=America/New_York:20240519T160000
DTSTAMP:20260424T045347
CREATED:20240429T165910Z
LAST-MODIFIED:20240429T165910Z
UID:3302-1716123600-1716134400@sevenmountainswinecellars.com
SUMMARY:Live Music by TBR
DESCRIPTION:Live music outside on the stage by TBR from 1-4
URL:https://sevenmountainswinecellars.com/event/live-music-by-tbr/
CATEGORIES:Music
ATTACH;FMTTYPE=image/png:https://sevenmountainswinecellars.com/wp-content/uploads/music-notes-clip-art-png-music.png
END:VEVENT
BEGIN:VEVENT
DTSTART;TZID=America/New_York:20240512T130000
DTEND;TZID=America/New_York:20240512T160000
DTSTAMP:20260424T045347
CREATED:20240325T151956Z
LAST-MODIFIED:20240325T151956Z
UID:3257-1715518800-1715529600@sevenmountainswinecellars.com
SUMMARY:Mother's Day Music by Sgt Bob
DESCRIPTION:Bring the ladies that you love and enjoy the day with us.  We will have music from 1-4 by Sgt Bob and the Patio Grille will be open from 11-5.  Music will be outside on the stage as long as the weather cooperates.  We will also have some wine specials for Moms and wine slushies will be back!
URL:https://sevenmountainswinecellars.com/event/mothers-day-music-by-sgt-bob/
LOCATION:Seven Mountains Wine Cellars\, 324 Decker Valley Rd\, Spring Mills\, PA\, 16875\, United States
CATEGORIES:Music,Special Events
ATTACH;FMTTYPE=image/webp:https://sevenmountainswinecellars.com/wp-content/uploads/32233444-happy-mothers-day.webp
END:VEVENT
BEGIN:VEVENT
DTSTART;TZID=America/New_York:20231112T130000
DTEND;TZID=America/New_York:20231112T160000
DTSTAMP:20260424T045347
CREATED:20231015T172017Z
LAST-MODIFIED:20231015T172017Z
UID:3168-1699794000-1699804800@sevenmountainswinecellars.com
SUMMARY:Music by Ben on Acoustic
DESCRIPTION:Join us for some Sunday afternoon music by Ben on Acoustic.
URL:https://sevenmountainswinecellars.com/event/music-by-ben-on-acoustic/
CATEGORIES:Music
END:VEVENT
BEGIN:VEVENT
DTSTART;TZID=America/New_York:20230922T180000
DTEND;TZID=America/New_York:20230922T210000
DTSTAMP:20260424T045347
CREATED:20230114T161406Z
LAST-MODIFIED:20230814T180013Z
UID:2949-1695405600-1695416400@sevenmountainswinecellars.com
SUMMARY:Campfire Friday Night with music by Mountain City
DESCRIPTION:Join us for campfire Friday nights! Bring your own lawn chairs or blankets and your favorite campfire snacks. The Patio Grille will also be open until 9pm. $5 per person. Photo ID required. ABSOLUTELY NO ALCHOL MAY BE BROUGHT ONTO OUR PROPERTY! We appreciate your cooperation.
URL:https://sevenmountainswinecellars.com/event/campfire-friday-night-with-music-by-tropical-soul/
CATEGORIES:Music
ATTACH;FMTTYPE=image/webp:https://sevenmountainswinecellars.com/wp-content/uploads/fire.webp
END:VEVENT
BEGIN:VEVENT
DTSTART;TZID=America/New_York:20230916T180000
DTEND;TZID=America/New_York:20230916T210000
DTSTAMP:20260424T045347
CREATED:20230712T174706Z
LAST-MODIFIED:20230712T175706Z
UID:3120-1694887200-1694898000@sevenmountainswinecellars.com
SUMMARY:Flying Ivories Dueling Pianos
DESCRIPTION:Too many of you asked for us not to book another piano event!  Join us for the fall version of Dueling Pianos on September 16th from 6-9 pm.  Tickets are on sale at the winery  and Boalsburg wine shop beginning on July 13th.  You may call the main winery and purchase tickets over the phone for pick up at a later time.  No refunds and no holds.  Covered\, outdoor seating will open at 5pm.  No reserved tables.  The Patio Grille will be open from 11-9 so come early and have some supper before the fun begins!  Event is rain or shine.  Tickets are $20.00
URL:https://sevenmountainswinecellars.com/event/flying-ivories-dueling-pianos-2/
CATEGORIES:Special Events
ATTACH;FMTTYPE=image/jpeg:https://sevenmountainswinecellars.com/wp-content/uploads/music-notes-clipart-music-notes-clip-art_zps339b2154.jpg
END:VEVENT
BEGIN:VEVENT
DTSTART;TZID=America/New_York:20230901T180000
DTEND;TZID=America/New_York:20230901T210000
DTSTAMP:20260424T045347
CREATED:20230110T204714Z
LAST-MODIFIED:20230113T180440Z
UID:2938-1693591200-1693602000@sevenmountainswinecellars.com
SUMMARY:Campfire Friday Night with mucic by Rhyne McCormick & Friends
DESCRIPTION:Join us for campfire Friday nights! Bring your own lawn chairs or blankets and your favorite campfire snacks. The Patio Grille will also be open until 9pm. $5 per person. Photo ID required. ABSOLUTELY NO ALCHOL MAY BE BROUGHT ONTO OUR PROPERTY! We appreciate your cooperation.
URL:https://sevenmountainswinecellars.com/event/campfire-friday-night-with-mucic-by-rhyne-mccormick/
CATEGORIES:Music
ATTACH;FMTTYPE=image/webp:https://sevenmountainswinecellars.com/wp-content/uploads/fire.webp
END:VEVENT
BEGIN:VEVENT
DTSTART;TZID=America/New_York:20230820T130000
DTEND;TZID=America/New_York:20230820T160000
DTSTAMP:20260424T045347
CREATED:20230726T164210Z
LAST-MODIFIED:20230726T164210Z
UID:3128-1692536400-1692547200@sevenmountainswinecellars.com
SUMMARY:Live Music by Mr Jimmy
DESCRIPTION:Join us from 1-4 for live music by Mr Jimmy (Stan Orndorf & Steve Snook).  Event will be outside weather permitting.  Winery and Patio Grille open 11-5.
URL:https://sevenmountainswinecellars.com/event/live-music-by-mr-jimmy/
CATEGORIES:Music
END:VEVENT
BEGIN:VEVENT
DTSTART;TZID=America/New_York:20230813T130000
DTEND;TZID=America/New_York:20230813T160000
DTSTAMP:20260424T045347
CREATED:20230710T162655Z
LAST-MODIFIED:20230710T162757Z
UID:3115-1691931600-1691942400@sevenmountainswinecellars.com
SUMMARY:Ben on Acoustic and our 14th Birthday Bash
DESCRIPTION:Come join us for some sweet treats\, give aways\, specials and live music by Ben on Acoustic.  Music outside weather permitting.  Bring your own lawn chairs if you’d like. \n  \nWinery and the Patio Grille open 11-5.
URL:https://sevenmountainswinecellars.com/event/ben-on-acoustic-and-our-14th-birthday-bash/
CATEGORIES:Music
END:VEVENT
BEGIN:VEVENT
DTSTART;TZID=America/New_York:20230811T180000
DTEND;TZID=America/New_York:20230811T210000
DTSTAMP:20260424T045347
CREATED:20230110T204555Z
LAST-MODIFIED:20230110T204555Z
UID:2935-1691776800-1691787600@sevenmountainswinecellars.com
SUMMARY:Campfire Friday Night with music by Chris Schenk
DESCRIPTION:Join us for campfire Friday nights! Bring your own lawn chairs or blankets and your favorite campfire snacks. The Patio Grille will also be open until 9pm. $5 per person. Photo ID required. ABSOLUTELY NO ALCHOL MAY BE BROUGHT ONTO OUR PROPERTY! We appreciate your cooperation.
URL:https://sevenmountainswinecellars.com/event/campfire-friday-night-with-music-by-chris-schenk/
CATEGORIES:Music
ATTACH;FMTTYPE=image/webp:https://sevenmountainswinecellars.com/wp-content/uploads/fire.webp
END:VEVENT
BEGIN:VEVENT
DTSTART;TZID=America/New_York:20230721T180000
DTEND;TZID=America/New_York:20230721T210000
DTSTAMP:20260424T045347
CREATED:20230110T204439Z
LAST-MODIFIED:20230110T204439Z
UID:2932-1689962400-1689973200@sevenmountainswinecellars.com
SUMMARY:Campfire Friday Night with music by RC3 (Ryan Carter Trio)
DESCRIPTION:Join us for campfire Friday nights! Bring your own lawn chairs or blankets and your favorite campfire snacks. The Patio Grille will also be open until 9pm. $5 per person. Photo ID required. ABSOLUTELY NO ALCHOL MAY BE BROUGHT ONTO OUR PROPERTY! We appreciate your cooperation.
URL:https://sevenmountainswinecellars.com/event/campfire-friday-night-with-music-by-rc3-ryan-carter-trio/
CATEGORIES:Music
ATTACH;FMTTYPE=image/webp:https://sevenmountainswinecellars.com/wp-content/uploads/fire.webp
END:VEVENT
BEGIN:VEVENT
DTSTART;TZID=America/New_York:20230707T180000
DTEND;TZID=America/New_York:20230707T210000
DTSTAMP:20260424T045347
CREATED:20230110T204312Z
LAST-MODIFIED:20230110T204312Z
UID:2929-1688752800-1688763600@sevenmountainswinecellars.com
SUMMARY:Campfire Friday Night with music by Hops & Vines
DESCRIPTION:Join us for campfire Friday nights! Bring your own lawn chairs or blankets and your favorite campfire snacks. The Patio Grille will also be open until 9pm. $5 per person. Photo ID required. ABSOLUTELY NO ALCHOL MAY BE BROUGHT ONTO OUR PROPERTY! We appreciate your cooperation.
URL:https://sevenmountainswinecellars.com/event/campfire-friday-night-with-music-by-hops-vines-2/
CATEGORIES:Music
ATTACH;FMTTYPE=image/webp:https://sevenmountainswinecellars.com/wp-content/uploads/fire.webp
END:VEVENT
BEGIN:VEVENT
DTSTART;TZID=America/New_York:20230624T180000
DTEND;TZID=America/New_York:20230624T210000
DTSTAMP:20260424T045347
CREATED:20230110T204151Z
LAST-MODIFIED:20230110T204151Z
UID:2926-1687629600-1687640400@sevenmountainswinecellars.com
SUMMARY:Flying Ivories Dueling Pianos
DESCRIPTION:This event sold out last year so don’t wait til the last minute.  Tickets MUST be purchased in advance.  We will make an announcement once everything is in place and we have tickets for sale.  Tickets will be limited to 200. \nThe Patio Grille will also be open for this event. \nSeating will be general admission.  No reserved tables. \nOutside under the tent\, rain or shine
URL:https://sevenmountainswinecellars.com/event/flying-ivories-dueling-pianos/
CATEGORIES:Music
ATTACH;FMTTYPE=image/jpeg:https://sevenmountainswinecellars.com/wp-content/uploads/2022-Dueling-Pianos-Poster.jpg
END:VEVENT
BEGIN:VEVENT
DTSTART;TZID=America/New_York:20230618T130000
DTEND;TZID=America/New_York:20230618T160000
DTSTAMP:20260424T045347
CREATED:20230113T172934Z
LAST-MODIFIED:20230113T172934Z
UID:2942-1687093200-1687104000@sevenmountainswinecellars.com
SUMMARY:Father's Day Music with Chris Lee
DESCRIPTION:Join us for music outside (weather permitting) from 1-4.  The Patio Grille will also be open.
URL:https://sevenmountainswinecellars.com/event/fathers-day-music-with-chris-lee/
CATEGORIES:CLOSED
ATTACH;FMTTYPE=image/jpeg:https://sevenmountainswinecellars.com/wp-content/uploads/fathers-day.jpg
END:VEVENT
BEGIN:VEVENT
DTSTART;TZID=America/New_York:20230609T180000
DTEND;TZID=America/New_York:20230609T210000
DTSTAMP:20260424T045347
CREATED:20230110T203822Z
LAST-MODIFIED:20230512T160116Z
UID:2922-1686333600-1686344400@sevenmountainswinecellars.com
SUMMARY:Campfire Friday Night with music by The Kirk Wise Trio
DESCRIPTION:Join us for campfire Friday nights! Bring your own lawn chairs or blankets and your favorite campfire snacks. The Patio Grille will also be open until 9pm. $5 per person. Photo ID required. ABSOLUTELY NO ALCHOL MAY BE BROUGHT ONTO OUR PROPERTY! We appreciate your cooperation.
URL:https://sevenmountainswinecellars.com/event/campfire-friday-night-with-music-by-jazz-me/
CATEGORIES:Music
ATTACH;FMTTYPE=image/webp:https://sevenmountainswinecellars.com/wp-content/uploads/fire.webp
END:VEVENT
BEGIN:VEVENT
DTSTART;TZID=America/New_York:20230514T130000
DTEND;TZID=America/New_York:20230514T160000
DTSTAMP:20260424T045347
CREATED:20230110T203606Z
LAST-MODIFIED:20230110T203606Z
UID:2918-1684069200-1684080000@sevenmountainswinecellars.com
SUMMARY:Mother's Day music with Matt Miskie
DESCRIPTION:Bring your Mom or any special lady in your life and enjoy some music by Matt Miskie.  Inside or outside will be determined closer to the time once we see how the weather is going to be.  Sure would be nice to get outside!  The Patio Grille will be open as well.
URL:https://sevenmountainswinecellars.com/event/mothers-day-music-with-matt-miskie/
CATEGORIES:Music
ATTACH;FMTTYPE=image/webp:https://sevenmountainswinecellars.com/wp-content/uploads/32233444-happy-mothers-day.webp
END:VEVENT
BEGIN:VEVENT
DTSTART;TZID=America/New_York:20230318T130000
DTEND;TZID=America/New_York:20230318T160000
DTSTAMP:20260424T045347
CREATED:20230106T170816Z
LAST-MODIFIED:20230106T170816Z
UID:2909-1679144400-1679155200@sevenmountainswinecellars.com
SUMMARY:Music by Sgt Bob
DESCRIPTION:Celebrate St Patty’s Day with us and music by Sgt Bob
URL:https://sevenmountainswinecellars.com/event/music-by-sgt-bob/
CATEGORIES:Music
ATTACH;FMTTYPE=image/jpeg:https://sevenmountainswinecellars.com/wp-content/uploads/music-notes-clipart-music-notes-clip-art_zps339b2154.jpg
END:VEVENT
BEGIN:VEVENT
DTSTART;TZID=America/New_York:20230211T130000
DTEND;TZID=America/New_York:20230211T160000
DTSTAMP:20260424T045347
CREATED:20230106T170959Z
LAST-MODIFIED:20230106T170959Z
UID:2912-1676120400-1676131200@sevenmountainswinecellars.com
SUMMARY:Music by Big Red
DESCRIPTION:Bring your sweetheart to the winery to celebrate Valentine’s Day with us and enjoy music by Big Red
URL:https://sevenmountainswinecellars.com/event/music-by-big-red/
CATEGORIES:Music
ATTACH;FMTTYPE=image/jpeg:https://sevenmountainswinecellars.com/wp-content/uploads/music-notes-clipart-music-notes-clip-art_zps339b2154.jpg
END:VEVENT
BEGIN:VEVENT
DTSTART;TZID=America/New_York:20221030T130000
DTEND;TZID=America/New_York:20221030T160000
DTSTAMP:20260424T045347
CREATED:20220802T190559Z
LAST-MODIFIED:20220802T190559Z
UID:2783-1667134800-1667145600@sevenmountainswinecellars.com
SUMMARY:Live Music by Chris Lee
DESCRIPTION:Live music outside on the stage from 1-4
URL:https://sevenmountainswinecellars.com/event/live-music-by-chris-lee/
CATEGORIES:Music
END:VEVENT
BEGIN:VEVENT
DTSTART;TZID=America/New_York:20221023T130000
DTEND;TZID=America/New_York:20221023T160000
DTSTAMP:20260424T045347
CREATED:20220802T194957Z
LAST-MODIFIED:20220802T194957Z
UID:2786-1666530000-1666540800@sevenmountainswinecellars.com
SUMMARY:Live music by Ben on Acoustic
DESCRIPTION:Live music outside on the stage from 1-4
URL:https://sevenmountainswinecellars.com/event/live-music-by-ben-on-acoustic/
CATEGORIES:Music
END:VEVENT
END:VCALENDAR