BEGIN:VCALENDAR
VERSION:2.0
PRODID:-//Seven Mountains Wine Cellars - ECPv6.15.20//NONSGML v1.0//EN
CALSCALE:GREGORIAN
METHOD:PUBLISH
X-WR-CALNAME:Seven Mountains Wine Cellars
X-ORIGINAL-URL:https://sevenmountainswinecellars.com
X-WR-CALDESC:Events for Seven Mountains Wine Cellars
REFRESH-INTERVAL;VALUE=DURATION:PT1H
X-Robots-Tag:noindex
X-PUBLISHED-TTL:PT1H
BEGIN:VTIMEZONE
TZID:America/New_York
BEGIN:DAYLIGHT
TZOFFSETFROM:-0500
TZOFFSETTO:-0400
TZNAME:EDT
DTSTART:20180311T070000
END:DAYLIGHT
BEGIN:STANDARD
TZOFFSETFROM:-0400
TZOFFSETTO:-0500
TZNAME:EST
DTSTART:20181104T060000
END:STANDARD
BEGIN:DAYLIGHT
TZOFFSETFROM:-0500
TZOFFSETTO:-0400
TZNAME:EDT
DTSTART:20190310T070000
END:DAYLIGHT
BEGIN:STANDARD
TZOFFSETFROM:-0400
TZOFFSETTO:-0500
TZNAME:EST
DTSTART:20191103T060000
END:STANDARD
BEGIN:DAYLIGHT
TZOFFSETFROM:-0500
TZOFFSETTO:-0400
TZNAME:EDT
DTSTART:20200308T070000
END:DAYLIGHT
BEGIN:STANDARD
TZOFFSETFROM:-0400
TZOFFSETTO:-0500
TZNAME:EST
DTSTART:20201101T060000
END:STANDARD
BEGIN:DAYLIGHT
TZOFFSETFROM:-0500
TZOFFSETTO:-0400
TZNAME:EDT
DTSTART:20210314T070000
END:DAYLIGHT
BEGIN:STANDARD
TZOFFSETFROM:-0400
TZOFFSETTO:-0500
TZNAME:EST
DTSTART:20211107T060000
END:STANDARD
BEGIN:DAYLIGHT
TZOFFSETFROM:-0500
TZOFFSETTO:-0400
TZNAME:EDT
DTSTART:20220313T070000
END:DAYLIGHT
BEGIN:STANDARD
TZOFFSETFROM:-0400
TZOFFSETTO:-0500
TZNAME:EST
DTSTART:20221106T060000
END:STANDARD
BEGIN:DAYLIGHT
TZOFFSETFROM:-0500
TZOFFSETTO:-0400
TZNAME:EDT
DTSTART:20230312T070000
END:DAYLIGHT
BEGIN:STANDARD
TZOFFSETFROM:-0400
TZOFFSETTO:-0500
TZNAME:EST
DTSTART:20231105T060000
END:STANDARD
END:VTIMEZONE
BEGIN:VEVENT
DTSTART;TZID=America/New_York:20220508T130000
DTEND;TZID=America/New_York:20220508T160000
DTSTAMP:20260424T045517
CREATED:20220410T161507Z
LAST-MODIFIED:20220410T161507Z
UID:2664-1652014800-1652025600@sevenmountainswinecellars.com
SUMMARY:Mother's Day Music with Rubee Creek
DESCRIPTION:Open 11-5.  Music outdoors 1-4
URL:https://sevenmountainswinecellars.com/event/mothers-day-music-with-rubee-creek/
LOCATION:Seven Mountains Wine Cellars\, 324 Decker Valley Rd\, Spring Mills\, PA\, 16875\, United States
CATEGORIES:Music
ATTACH;FMTTYPE=image/png:https://sevenmountainswinecellars.com/wp-content/uploads/mothers-day-art.png
END:VEVENT
BEGIN:VEVENT
DTSTART;TZID=America/New_York:20210924T180000
DTEND;TZID=America/New_York:20210924T210000
DTSTAMP:20260424T045517
CREATED:20210622T170305Z
LAST-MODIFIED:20210622T170305Z
UID:2376-1632506400-1632517200@sevenmountainswinecellars.com
SUMMARY:Campfire Friday Night
DESCRIPTION:Music by Chris Schenk & Delilah  \nFood for sale from Smokin Hot Butts BBQ \nEach person is required to purchase a wine glass for $5 to enter.  If you have a campfire season pass or bundle from 2020 or 2021 we will honor both years. \nPlease remember to bring your lawn chairs because we’re sure seating will go fast! \nWine will be served by the bottle only and can be purchased inside along with slushies and popsicles. \nVarious Pennsylvania beers will be for sale outside. \nPlease be patient with us as we get back into the swing of big events.  Like many other businesses we are still a bit short staffed so we appreciate your patience and kindness! \n 
URL:https://sevenmountainswinecellars.com/event/campfire-friday-night-9/
CATEGORIES:Campfires
ATTACH;FMTTYPE=image/jpeg:https://sevenmountainswinecellars.com/wp-content/uploads/summer-campfire.jpg
END:VEVENT
BEGIN:VEVENT
DTSTART;TZID=America/New_York:20210903T180000
DTEND;TZID=America/New_York:20210903T210000
DTSTAMP:20260424T045517
CREATED:20210622T165900Z
LAST-MODIFIED:20210824T202203Z
UID:2373-1630692000-1630702800@sevenmountainswinecellars.com
SUMMARY:Campfire Friday Night
DESCRIPTION:Music by Sasparilla \nFood for sale from Smokin Hot Butts BBQ \nEach person is required to purchase a wine glass for $5 to enter.  If you have a campfire season pass or bundle from 2020 or 2021 we will honor both years. \nPlease remember to bring your lawn chairs because we’re sure seating will go fast! \nWine will be served by the bottle only and can be purchased inside along with slushies and popsicles. \nVarious Pennsylvania beers will be for sale outside. \nPlease be patient with us as we get back into the swing of big events.  Like many other businesses we are still a bit short staffed so we appreciate your patience and kindness! \n 
URL:https://sevenmountainswinecellars.com/event/2373/
CATEGORIES:Campfires
ATTACH;FMTTYPE=image/jpeg:https://sevenmountainswinecellars.com/wp-content/uploads/summer-campfire.jpg
END:VEVENT
BEGIN:VEVENT
DTSTART;TZID=America/New_York:20210813T180000
DTEND;TZID=America/New_York:20210813T210000
DTSTAMP:20260424T045517
CREATED:20210622T165653Z
LAST-MODIFIED:20210730T173650Z
UID:2370-1628877600-1628888400@sevenmountainswinecellars.com
SUMMARY:Campfire Friday Night
DESCRIPTION:Music by Jazz Me R&B & more…. \nWood fired pizza for sale from Pappas Pies \nEach person is required to purchase a wine glass for $5 to enter.  If you have a campfire season pass or bundle from 2020 or 2021 we will honor both years. \nPlease remember to bring your lawn chairs because we’re sure seating will go fast! \nWine will be served by the bottle only and can be purchased inside along with slushies and popsicles. \nVarious Pennsylvania beers will be for sale outside. \nPlease be patient with us as we get back into the swing of big events.  Like many other businesses we are still a bit short staffed so we appreciate your patience and kindness! \n 
URL:https://sevenmountainswinecellars.com/event/campfire-friday-night-8/
CATEGORIES:Campfires
ATTACH;FMTTYPE=image/jpeg:https://sevenmountainswinecellars.com/wp-content/uploads/summer-campfire.jpg
END:VEVENT
BEGIN:VEVENT
DTSTART;TZID=America/New_York:20210716T180000
DTEND;TZID=America/New_York:20210716T210000
DTSTAMP:20260424T045517
CREATED:20210622T165437Z
LAST-MODIFIED:20210622T170741Z
UID:2365-1626458400-1626469200@sevenmountainswinecellars.com
SUMMARY:Campfire Friday Night
DESCRIPTION:Please join us for our first campfire in 2 years!   \nMusic by Hops & Vines  \nWood fired pizza from Pappas Pies \nEach person is required to purchase a wine glass for $5 to enter.  If you have a campfire season pass or bundle from 2020 or 2021 we will honor both years. \nPlease remember to bring your lawn chairs because we’re sure seating will go fast! \nWine will be served by the bottle only and can be purchased inside along with slushies and popsicles. \nVarious Pennsylvania beers will be for sale outside. \nPlease be patient with us as we get back into the swing of big events.  Like many other businesses we are still a bit short staffed so we appreciate your patience and kindness! \n 
URL:https://sevenmountainswinecellars.com/event/campfire-friday-night-7/
CATEGORIES:Campfires
ATTACH;FMTTYPE=image/jpeg:https://sevenmountainswinecellars.com/wp-content/uploads/summer-campfire.jpg
END:VEVENT
BEGIN:VEVENT
DTSTART;TZID=America/New_York:20200315T133000
DTEND;TZID=America/New_York:20200315T163000
DTSTAMP:20260424T045517
CREATED:20200106T201234Z
LAST-MODIFIED:20200106T201234Z
UID:1737-1584279000-1584289800@sevenmountainswinecellars.com
SUMMARY:Irish Tunes by Jazz Me
DESCRIPTION:Join us for live music (inside) \nNo reservations required \nNo cover \nThe entire month of March is also our Susquehanna Heartland Wine Trail.  Tickets can be purchased at any of the participating wineries.  More info can be found at www.pawinetrail.com \nMusic is open to the public.  Wine trail tickets are not required for the entertainment.
URL:https://sevenmountainswinecellars.com/event/irish-tunes-by-jazz-me/
CATEGORIES:Music
ATTACH;FMTTYPE=image/jpeg:https://sevenmountainswinecellars.com/wp-content/uploads/music-notes-clipart-music-notes-clip-art_zps339b2154.jpg
END:VEVENT
BEGIN:VEVENT
DTSTART;TZID=America/New_York:20200314T140000
DTEND;TZID=America/New_York:20200314T170000
DTSTAMP:20260424T045517
CREATED:20200106T201131Z
LAST-MODIFIED:20200106T201131Z
UID:1734-1584194400-1584205200@sevenmountainswinecellars.com
SUMMARY:Music by Chris Lee
DESCRIPTION:Join us for live music (inside) \nNo reservations required \nNo cover \nThe entire month of March is also our Susquehanna Heartland Wine Trail.  Tickets can be purchased at any of the participating wineries.  More info can be found at www.pawinetrail.com \nMusic is open to the public.  Wine trail tickets are not required for the entertainment.
URL:https://sevenmountainswinecellars.com/event/music-by-chris-lee-2/
CATEGORIES:Music
ATTACH;FMTTYPE=image/jpeg:https://sevenmountainswinecellars.com/wp-content/uploads/music-notes-clipart-music-notes-clip-art_zps339b2154.jpg
END:VEVENT
BEGIN:VEVENT
DTSTART;TZID=America/New_York:20200308T133000
DTEND;TZID=America/New_York:20200308T163000
DTSTAMP:20260424T045517
CREATED:20200106T201039Z
LAST-MODIFIED:20200106T201039Z
UID:1731-1583674200-1583685000@sevenmountainswinecellars.com
SUMMARY:Music by Cousin Neddie
DESCRIPTION:Join us for live music (inside) \nNo reservations required \nNo cover \nThe entire month of March is also our Susquehanna Heartland Wine Trail.  Tickets can be purchased at any of the participating wineries.  More info can be found at www.pawinetrail.com \nMusic is open to the public.  Wine trail tickets are not required for the entertainment.
URL:https://sevenmountainswinecellars.com/event/music-by-cousin-neddie-2/
CATEGORIES:Music
ATTACH;FMTTYPE=image/jpeg:https://sevenmountainswinecellars.com/wp-content/uploads/music-notes-clipart-music-notes-clip-art_zps339b2154.jpg
END:VEVENT
BEGIN:VEVENT
DTSTART;TZID=America/New_York:20200307T140000
DTEND;TZID=America/New_York:20200307T170000
DTSTAMP:20260424T045517
CREATED:20200106T200952Z
LAST-MODIFIED:20200106T200952Z
UID:1728-1583589600-1583600400@sevenmountainswinecellars.com
SUMMARY:Music by Jason Thomas
DESCRIPTION:Join us for live music (inside) \nNo reservations required \nNo cover \nThe entire month of March is also our Susquehanna Heartland Wine Trail.  Tickets can be purchased at any of the participating wineries.  More info can be found at www.pawinetrail.com \nMusic is open to the public.  Wine trail tickets are not required for the entertainment.
URL:https://sevenmountainswinecellars.com/event/music-by-jason-thomas/
CATEGORIES:Music
ATTACH;FMTTYPE=image/jpeg:https://sevenmountainswinecellars.com/wp-content/uploads/music-notes-clipart-music-notes-clip-art_zps339b2154.jpg
END:VEVENT
BEGIN:VEVENT
DTSTART;TZID=America/New_York:20200301T133000
DTEND;TZID=America/New_York:20200301T163000
DTSTAMP:20260424T045517
CREATED:20200106T200838Z
LAST-MODIFIED:20200106T200901Z
UID:1724-1583069400-1583080200@sevenmountainswinecellars.com
SUMMARY:Music by The Wave Duo
DESCRIPTION:Join us for live music (inside) \nNo reservations required \nNo cover \nThe entire month of March is also our Susquehanna Heartland Wine Trail.  Tickets can be purchased at any of the participating wineries.  More info can be found at www.pawinetrail.com \nMusic is open to the public.  Wine trail tickets are not required for the entertainment.
URL:https://sevenmountainswinecellars.com/event/music-by-the-wave-duo-2/
CATEGORIES:Music
ATTACH;FMTTYPE=image/jpeg:https://sevenmountainswinecellars.com/wp-content/uploads/music-notes-clipart-music-notes-clip-art_zps339b2154.jpg
END:VEVENT
BEGIN:VEVENT
DTSTART;TZID=America/New_York:20200229T133000
DTEND;TZID=America/New_York:20200229T163000
DTSTAMP:20260424T045517
CREATED:20200106T200741Z
LAST-MODIFIED:20200106T200741Z
UID:1721-1582983000-1582993800@sevenmountainswinecellars.com
SUMMARY:Music by Steen Petersen
DESCRIPTION:Join us for live music (inside) \nNo reservations required \nNo cover \nThe entire month of March (and February 29) is also our Susquehanna Heartland Wine Trail.  Tickets can be purchased at any of the participating wineries.  More info can be found at www.pawinetrail.com \nMusic is open to the public.  Wine trail tickets are not required for the entertainment.
URL:https://sevenmountainswinecellars.com/event/music-by-steen-petersen-2/
CATEGORIES:Music
ATTACH;FMTTYPE=image/jpeg:https://sevenmountainswinecellars.com/wp-content/uploads/music-notes-clipart-music-notes-clip-art_zps339b2154.jpg
END:VEVENT
BEGIN:VEVENT
DTSTART;TZID=America/New_York:20200216T133000
DTEND;TZID=America/New_York:20200216T163000
DTSTAMP:20260424T045517
CREATED:20200106T200340Z
LAST-MODIFIED:20200106T200340Z
UID:1718-1581859800-1581870600@sevenmountainswinecellars.com
SUMMARY:Music by Callie Tomblin
DESCRIPTION:Join us for live music (inside) \nNo reservations required \nNo cover
URL:https://sevenmountainswinecellars.com/event/music-by-callie-tomblin/
CATEGORIES:Music
ATTACH;FMTTYPE=image/jpeg:https://sevenmountainswinecellars.com/wp-content/uploads/music-notes-clipart-music-notes-clip-art_zps339b2154.jpg
END:VEVENT
BEGIN:VEVENT
DTSTART;TZID=America/New_York:20200215T133000
DTEND;TZID=America/New_York:20200215T163000
DTSTAMP:20260424T045517
CREATED:20200106T200004Z
LAST-MODIFIED:20200106T200004Z
UID:1715-1581773400-1581784200@sevenmountainswinecellars.com
SUMMARY:Music by Rhyne McCormick
DESCRIPTION:Join us for live music (inside) \nNo reservations required \nNo cover
URL:https://sevenmountainswinecellars.com/event/music-by-rhyne-mccormick/
CATEGORIES:Music
ATTACH;FMTTYPE=image/jpeg:https://sevenmountainswinecellars.com/wp-content/uploads/music-notes-clipart-music-notes-clip-art_zps339b2154.jpg
END:VEVENT
BEGIN:VEVENT
DTSTART;TZID=America/New_York:20200209T133000
DTEND;TZID=America/New_York:20200209T163000
DTSTAMP:20260424T045517
CREATED:20200106T195834Z
LAST-MODIFIED:20200112T164836Z
UID:1712-1581255000-1581265800@sevenmountainswinecellars.com
SUMMARY:Music by the Dean Frear Trio
DESCRIPTION:Join us for live music (inside) \nNo reservations required \nNo cover \n  \n 
URL:https://sevenmountainswinecellars.com/event/music-by-the-dean-frear-trio/
LOCATION:Seven Mountains Wine Cellars\, 324 Decker Valley Rd\, Spring Mills\, PA\, 16875\, United States
CATEGORIES:Music
ATTACH;FMTTYPE=image/jpeg:https://sevenmountainswinecellars.com/wp-content/uploads/music-notes-clipart-music-notes-clip-art_zps339b2154.jpg
END:VEVENT
BEGIN:VEVENT
DTSTART;TZID=America/New_York:20191229T133000
DTEND;TZID=America/New_York:20191229T163000
DTSTAMP:20260424T045517
CREATED:20190430T202101Z
LAST-MODIFIED:20190814T181640Z
UID:1469-1577626200-1577637000@sevenmountainswinecellars.com
SUMMARY:Music by Chris Schenk & Delilah
DESCRIPTION:
URL:https://sevenmountainswinecellars.com/event/music-by-coleman-rigg-2/
CATEGORIES:Music
ATTACH;FMTTYPE=image/jpeg:https://sevenmountainswinecellars.com/wp-content/uploads/music-notes-clipart-music-notes-clip-art_zps339b2154.jpg
END:VEVENT
BEGIN:VEVENT
DTSTART;VALUE=DATE:20191225
DTEND;VALUE=DATE:20191226
DTSTAMP:20260424T045517
CREATED:20190430T204803Z
LAST-MODIFIED:20190430T204803Z
UID:1494-1577232000-1577318399@sevenmountainswinecellars.com
SUMMARY:CLOSED for Christmas Day
DESCRIPTION:
URL:https://sevenmountainswinecellars.com/event/closed-for-christmas-day/
CATEGORIES:CLOSED
ATTACH;FMTTYPE=image/jpeg:https://sevenmountainswinecellars.com/wp-content/uploads/merryxmas-art-e1556657266335.jpg
END:VEVENT
BEGIN:VEVENT
DTSTART;TZID=America/New_York:20191224T100000
DTEND;TZID=America/New_York:20191224T140000
DTSTAMP:20260424T045517
CREATED:20190430T205257Z
LAST-MODIFIED:20190430T205411Z
UID:1497-1577181600-1577196000@sevenmountainswinecellars.com
SUMMARY:Limited Hours for Christmas Eve
DESCRIPTION:We will be open for bottle sales on Christmas Eve from 10-2.
URL:https://sevenmountainswinecellars.com/event/limited-hours-for-christmas-eve/
ATTACH;FMTTYPE=image/jpeg:https://sevenmountainswinecellars.com/wp-content/uploads/christmas-art.jpg
END:VEVENT
BEGIN:VEVENT
DTSTART;TZID=America/New_York:20191222T133000
DTEND;TZID=America/New_York:20191222T163000
DTSTAMP:20260424T045517
CREATED:20190430T201919Z
LAST-MODIFIED:20190430T201919Z
UID:1466-1577021400-1577032200@sevenmountainswinecellars.com
SUMMARY:Music by Rhyne McCormick
DESCRIPTION:
URL:https://sevenmountainswinecellars.com/event/music-by-rhyne-mccormick-3/
CATEGORIES:Music
ATTACH;FMTTYPE=image/png:https://sevenmountainswinecellars.com/wp-content/uploads/music-notes-clip-art-png-music.png
END:VEVENT
BEGIN:VEVENT
DTSTART;TZID=America/New_York:20191221T133000
DTEND;TZID=America/New_York:20191221T163000
DTSTAMP:20260424T045517
CREATED:20190430T201714Z
LAST-MODIFIED:20190501T182115Z
UID:1462-1576935000-1576945800@sevenmountainswinecellars.com
SUMMARY:Jazz Me Holiday Music
DESCRIPTION:
URL:https://sevenmountainswinecellars.com/event/jazz-me-holiday-music-2/
CATEGORIES:Music
ATTACH;FMTTYPE=image/jpeg:https://sevenmountainswinecellars.com/wp-content/uploads/christmasmusicart.jpg
END:VEVENT
BEGIN:VEVENT
DTSTART;TZID=America/New_York:20191215T133000
DTEND;TZID=America/New_York:20191215T163000
DTSTAMP:20260424T045517
CREATED:20190430T201513Z
LAST-MODIFIED:20190430T201513Z
UID:1459-1576416600-1576427400@sevenmountainswinecellars.com
SUMMARY:Music by Cousin Neddie
DESCRIPTION:
URL:https://sevenmountainswinecellars.com/event/music-by-cousin-neddie/
CATEGORIES:Music
ATTACH;FMTTYPE=image/png:https://sevenmountainswinecellars.com/wp-content/uploads/music-notes-clip-art-png-music.png
END:VEVENT
BEGIN:VEVENT
DTSTART;TZID=America/New_York:20191208T133000
DTEND;TZID=America/New_York:20191208T163000
DTSTAMP:20260424T045517
CREATED:20190430T201305Z
LAST-MODIFIED:20190430T201305Z
UID:1456-1575811800-1575822600@sevenmountainswinecellars.com
SUMMARY:Music by Johnny Manino
DESCRIPTION:
URL:https://sevenmountainswinecellars.com/event/music-by-johnny-manino/
CATEGORIES:Music
ATTACH;FMTTYPE=image/png:https://sevenmountainswinecellars.com/wp-content/uploads/music-notes-clip-art-png-music.png
END:VEVENT
BEGIN:VEVENT
DTSTART;TZID=America/New_York:20191207T133000
DTEND;TZID=America/New_York:20191207T163000
DTSTAMP:20260424T045517
CREATED:20190430T201133Z
LAST-MODIFIED:20190430T201148Z
UID:1453-1575725400-1575736200@sevenmountainswinecellars.com
SUMMARY:Music by Ryan Carter Trio
DESCRIPTION:
URL:https://sevenmountainswinecellars.com/event/music-by-ryan-carter-trio-2/
CATEGORIES:Music
ATTACH;FMTTYPE=image/png:https://sevenmountainswinecellars.com/wp-content/uploads/music-notes-clip-art-png-music.png
END:VEVENT
BEGIN:VEVENT
DTSTART;TZID=America/New_York:20191201T133000
DTEND;TZID=America/New_York:20191201T163000
DTSTAMP:20260424T045517
CREATED:20190430T201027Z
LAST-MODIFIED:20190430T201027Z
UID:1450-1575207000-1575217800@sevenmountainswinecellars.com
SUMMARY:Music by SGT Bob
DESCRIPTION:
URL:https://sevenmountainswinecellars.com/event/music-by-sgt-bob-2/
CATEGORIES:Music
ATTACH;FMTTYPE=image/png:https://sevenmountainswinecellars.com/wp-content/uploads/music-notes-clip-art-png-music.png
END:VEVENT
BEGIN:VEVENT
DTSTART;TZID=America/New_York:20191130T133000
DTEND;TZID=America/New_York:20191130T163000
DTSTAMP:20260424T045517
CREATED:20190430T200914Z
LAST-MODIFIED:20190430T200914Z
UID:1447-1575120600-1575131400@sevenmountainswinecellars.com
SUMMARY:Music by Aaron Bossinger
DESCRIPTION:
URL:https://sevenmountainswinecellars.com/event/music-by-aaron-bossinger-2/
CATEGORIES:Music
ATTACH;FMTTYPE=image/png:https://sevenmountainswinecellars.com/wp-content/uploads/music-notes-clip-art-png-music.png
END:VEVENT
BEGIN:VEVENT
DTSTART;VALUE=DATE:20191128
DTEND;VALUE=DATE:20191129
DTSTAMP:20260424T045517
CREATED:20190430T204529Z
LAST-MODIFIED:20190430T204529Z
UID:1490-1574899200-1574985599@sevenmountainswinecellars.com
SUMMARY:CLOSED for Thanksgiving
DESCRIPTION:
URL:https://sevenmountainswinecellars.com/event/closed-for-thanksgiving/
CATEGORIES:CLOSED
ATTACH;FMTTYPE=image/jpeg:https://sevenmountainswinecellars.com/wp-content/uploads/thanksgiving-art-e1556657107648.jpg
END:VEVENT
BEGIN:VEVENT
DTSTART;TZID=America/New_York:20191124T133000
DTEND;TZID=America/New_York:20191124T163000
DTSTAMP:20260424T045517
CREATED:20190430T200720Z
LAST-MODIFIED:20190430T200720Z
UID:1444-1574602200-1574613000@sevenmountainswinecellars.com
SUMMARY:Music by Hops & Vines
DESCRIPTION:
URL:https://sevenmountainswinecellars.com/event/music-by-hops-vines-2/
CATEGORIES:Music
ATTACH;FMTTYPE=image/png:https://sevenmountainswinecellars.com/wp-content/uploads/music-notes-clip-art-png-music.png
END:VEVENT
BEGIN:VEVENT
DTSTART;TZID=America/New_York:20191123T133000
DTEND;TZID=America/New_York:20191123T163000
DTSTAMP:20260424T045517
CREATED:20190430T200615Z
LAST-MODIFIED:20190430T200615Z
UID:1441-1574515800-1574526600@sevenmountainswinecellars.com
SUMMARY:Music by Steen Petersen
DESCRIPTION:
URL:https://sevenmountainswinecellars.com/event/music-by-steen-petersen/
CATEGORIES:Music
ATTACH;FMTTYPE=image/png:https://sevenmountainswinecellars.com/wp-content/uploads/music-notes-clip-art-png-music.png
END:VEVENT
BEGIN:VEVENT
DTSTART;TZID=America/New_York:20191117T133000
DTEND;TZID=America/New_York:20191117T163000
DTSTAMP:20260424T045517
CREATED:20190430T200417Z
LAST-MODIFIED:20190430T200417Z
UID:1438-1573997400-1574008200@sevenmountainswinecellars.com
SUMMARY:Music by Mycenea Worley
DESCRIPTION:
URL:https://sevenmountainswinecellars.com/event/music-by-mycenea-worley-2/
CATEGORIES:Music
ATTACH;FMTTYPE=image/png:https://sevenmountainswinecellars.com/wp-content/uploads/music-notes-clip-art-png-music.png
END:VEVENT
BEGIN:VEVENT
DTSTART;TZID=America/New_York:20191110T133000
DTEND;TZID=America/New_York:20191110T163000
DTSTAMP:20260424T045517
CREATED:20190430T200310Z
LAST-MODIFIED:20190430T200310Z
UID:1435-1573392600-1573403400@sevenmountainswinecellars.com
SUMMARY:Music by Cody Wilt
DESCRIPTION:
URL:https://sevenmountainswinecellars.com/event/music-by-cody-wilt-2/
CATEGORIES:Music
ATTACH;FMTTYPE=image/png:https://sevenmountainswinecellars.com/wp-content/uploads/music-notes-clip-art-png-music.png
END:VEVENT
BEGIN:VEVENT
DTSTART;TZID=America/New_York:20191103T133000
DTEND;TZID=America/New_York:20191103T163000
DTSTAMP:20260424T045517
CREATED:20190430T200205Z
LAST-MODIFIED:20190430T200205Z
UID:1432-1572787800-1572798600@sevenmountainswinecellars.com
SUMMARY:Music by Bernie Rich
DESCRIPTION:
URL:https://sevenmountainswinecellars.com/event/music-by-bernie-rich/
CATEGORIES:Music
ATTACH;FMTTYPE=image/png:https://sevenmountainswinecellars.com/wp-content/uploads/music-notes-clip-art-png-music.png
END:VEVENT
END:VCALENDAR